BEGIN:VCALENDAR
VERSION:2.0
PRODID:-//Raising the Bar - ECPv6.15.17.1//NONSGML v1.0//EN
CALSCALE:GREGORIAN
METHOD:PUBLISH
X-WR-CALNAME:Raising the Bar
X-ORIGINAL-URL:https://raisingthebarnw.com
X-WR-CALDESC:Events for Raising the Bar
REFRESH-INTERVAL;VALUE=DURATION:PT1H
X-Robots-Tag:noindex
X-PUBLISHED-TTL:PT1H
BEGIN:VTIMEZONE
TZID:America/Vancouver
BEGIN:DAYLIGHT
TZOFFSETFROM:-0800
TZOFFSETTO:-0700
TZNAME:PDT
DTSTART:20240310T100000
END:DAYLIGHT
BEGIN:STANDARD
TZOFFSETFROM:-0700
TZOFFSETTO:-0800
TZNAME:PST
DTSTART:20241103T090000
END:STANDARD
BEGIN:DAYLIGHT
TZOFFSETFROM:-0800
TZOFFSETTO:-0700
TZNAME:PDT
DTSTART:20250309T100000
END:DAYLIGHT
BEGIN:STANDARD
TZOFFSETFROM:-0700
TZOFFSETTO:-0800
TZNAME:PST
DTSTART:20251102T090000
END:STANDARD
BEGIN:DAYLIGHT
TZOFFSETFROM:-0800
TZOFFSETTO:-0700
TZNAME:PDT
DTSTART:20260308T100000
END:DAYLIGHT
BEGIN:STANDARD
TZOFFSETFROM:-0700
TZOFFSETTO:-0800
TZNAME:PST
DTSTART:20261101T090000
END:STANDARD
END:VTIMEZONE
BEGIN:VEVENT
DTSTART;TZID=America/Vancouver:20250518T150000
DTEND;TZID=America/Vancouver:20250518T170000
DTSTAMP:20260424T081633
CREATED:20250422T165103Z
LAST-MODIFIED:20250425T161422Z
UID:3760-1747580400-1747587600@raisingthebarnw.com
SUMMARY:Spokane Imbibes: The History of Spokane in 3 Drinks
DESCRIPTION:This class is SOLD OUT. We’ve added a second Spokane Imbibes Mother’s Day edition class on    May 11th. Details HERE!\nJoin us in celebrating Spokane at our May cocktail class\, where we’ll explore the history of Spokane through three distinct drinks. The founding of Spokane Falls in 1873 coincided with significant developments in America’s drinking culture. As the nation expanded westward toward the Pacific\, the drinking habits of the thirsty newcomers also evolved.\nOur cocktail classes are hands-on\, featuring bartending stations for each pair of guests. You’ll grab onto a shaker\, mixing glass\, and bar spoon while learning mixology techniques. We’ll explain the importance of each method as we guide you through the steps. Our team arrives early to press fresh juices\, make syrups from scratch\, and prepare all the ingredients needed for three drinks.\nWe’ll make and enjoy the drinks chronologically to tell the story of Spokane’s development over time. From the founding years and the changes of the late nineteenth century to the people\, places\, and events that shaped Spokane and cocktail culture — hello\, Prohibition! — in the twentieth century. Our classes blend history and mixology. Taste the history!\nHogwash Whiskey Den’s master mixologist\, Simon\, will guide you through the ingredients with mixology lessons on using the barkeep’s tools and techniques. Raising the Bar’s resident historian\, Renée\, shares stories and the history of Spokane. \nTickets are $75 per person. Your ticket includes: \n\nThree crafted drinks\nMixology and history lessons\nAppetizers\nA cocktail recipe booklet\n\nThe class includes a bartending station for each pair of guests\, fresh-made and prepared ingredients\, and vintage glassware. \nDon’t miss out on this unique opportunity to learn\, create\, and connect over exquisite libations. Join us and be part of a celebration that skillfully blends history and the joy of cocktail crafting. Reserve your spot today! \nCLICK HERE FOR TICKETS.\nMUST BE 21 and over. The class is limited to 30 guests.
URL:https://raisingthebarnw.com/event/spokane-imbibes-the-history-of-spokane-in-3-drinks/
LOCATION:Hogwash Whiskey Den\, 304 W. Pacific Ave\, Spokane\, WA\, 99201\, United States
CATEGORIES:Classes,Cocktail Class,Mixology Class
ATTACH;FMTTYPE=image/png:https://raisingthebarnw.com/wp-content/uploads/2025/04/Spokane-Imbibes-IG.1-May25-1.png
END:VEVENT
END:VCALENDAR