BEGIN:VCALENDAR
VERSION:2.0
PRODID:-//Raising the Bar - ECPv6.15.17.1//NONSGML v1.0//EN
CALSCALE:GREGORIAN
METHOD:PUBLISH
X-ORIGINAL-URL:https://raisingthebarnw.com
X-WR-CALDESC:Events for Raising the Bar
REFRESH-INTERVAL;VALUE=DURATION:PT1H
X-Robots-Tag:noindex
X-PUBLISHED-TTL:PT1H
BEGIN:VTIMEZONE
TZID:America/Vancouver
BEGIN:DAYLIGHT
TZOFFSETFROM:-0800
TZOFFSETTO:-0700
TZNAME:PDT
DTSTART:20230312T100000
END:DAYLIGHT
BEGIN:STANDARD
TZOFFSETFROM:-0700
TZOFFSETTO:-0800
TZNAME:PST
DTSTART:20231105T090000
END:STANDARD
BEGIN:DAYLIGHT
TZOFFSETFROM:-0800
TZOFFSETTO:-0700
TZNAME:PDT
DTSTART:20240310T100000
END:DAYLIGHT
BEGIN:STANDARD
TZOFFSETFROM:-0700
TZOFFSETTO:-0800
TZNAME:PST
DTSTART:20241103T090000
END:STANDARD
BEGIN:DAYLIGHT
TZOFFSETFROM:-0800
TZOFFSETTO:-0700
TZNAME:PDT
DTSTART:20250309T100000
END:DAYLIGHT
BEGIN:STANDARD
TZOFFSETFROM:-0700
TZOFFSETTO:-0800
TZNAME:PST
DTSTART:20251102T090000
END:STANDARD
END:VTIMEZONE
BEGIN:VEVENT
DTSTART;TZID=America/Vancouver:20240512T150000
DTEND;TZID=America/Vancouver:20240512T170000
DTSTAMP:20260425T033722
CREATED:20240419T010849Z
LAST-MODIFIED:20240419T011214Z
UID:3645-1715526000-1715533200@raisingthebarnw.com
SUMMARY:5/12 Tequila Cocktail Class with Hogwash Whiskey Den
DESCRIPTION:Oh\, tequila. You are many things to different people; as for your history\, now that’s quite the story! \nOur May class is about tequila: its origins and how it came to America. We’ll make three tequila cocktails. Unknown to the first cadre of 19th-century professional mixologists\, learn how Prohibition brought attention to this mainstay spirit of every back bar in today’s drinking dens. \nHear the story of tequila’s contribution to cocktail culture while Hogwash Whiskey Den’s master mixologist\, Simon Moorby\, guides you through making three cocktails. Your mixology lessons include the techniques and correct use of the barkeep’s tools and techniques\, and Raising the Bar’s resident historian\, Renée shares how these drinks shaped 20th-century drinking culture. \nDevelop your palate and learn the mixologist’s techniques for making drinks. Enjoy appetizers\, and take home your recipe booklet to continue your cocktail explorations at home. This interactive cocktail class combines history and mixology. Class set-up includes bartending stations with all the necessary tools\, fresh-made and prepped ingredients\, and vintage glassware. Shake\, stir\, and sip in style as you hear the stories\, learn the techniques\, and enjoy the drinks. \nClass set-up includes bartending stations with all the necessary tools\, fresh-made syrups and juices\, prepped and ready ingredients\, and vintage glassware.\nTickets are $75 per person. Your ticket includes the following: \n\nThree crafted drinks\nMixology and history lessons\nAppetizers\nCocktail recipe booklet\n\nMUST BE 21 and over. The class is limited to 30 guests. Purchase TICKETS HERE! 
URL:https://raisingthebarnw.com/event/5-12-tequila-cocktail-class-with-hogwash-whiskey-den/
LOCATION:Hogwash Whiskey Den\, 304 W. Pacific Ave\, Spokane\, WA\, 99201\, United States
CATEGORIES:Classes,Cocktail Class,Mixology Class
ATTACH;FMTTYPE=image/png:https://raisingthebarnw.com/wp-content/uploads/2024/04/HWD-Tequila2-FleurLimes-May24-Landscape.png
END:VEVENT
END:VCALENDAR