BEGIN:VCALENDAR
VERSION:2.0
PRODID:-//Raising the Bar - ECPv6.15.17.1//NONSGML v1.0//EN
CALSCALE:GREGORIAN
METHOD:PUBLISH
X-ORIGINAL-URL:https://raisingthebarnw.com
X-WR-CALDESC:Events for Raising the Bar
REFRESH-INTERVAL;VALUE=DURATION:PT1H
X-Robots-Tag:noindex
X-PUBLISHED-TTL:PT1H
BEGIN:VTIMEZONE
TZID:America/Vancouver
BEGIN:DAYLIGHT
TZOFFSETFROM:-0800
TZOFFSETTO:-0700
TZNAME:PDT
DTSTART:20230312T100000
END:DAYLIGHT
BEGIN:STANDARD
TZOFFSETFROM:-0700
TZOFFSETTO:-0800
TZNAME:PST
DTSTART:20231105T090000
END:STANDARD
BEGIN:DAYLIGHT
TZOFFSETFROM:-0800
TZOFFSETTO:-0700
TZNAME:PDT
DTSTART:20240310T100000
END:DAYLIGHT
BEGIN:STANDARD
TZOFFSETFROM:-0700
TZOFFSETTO:-0800
TZNAME:PST
DTSTART:20241103T090000
END:STANDARD
BEGIN:DAYLIGHT
TZOFFSETFROM:-0800
TZOFFSETTO:-0700
TZNAME:PDT
DTSTART:20250309T100000
END:DAYLIGHT
BEGIN:STANDARD
TZOFFSETFROM:-0700
TZOFFSETTO:-0800
TZNAME:PST
DTSTART:20251102T090000
END:STANDARD
END:VTIMEZONE
BEGIN:VEVENT
DTSTART;TZID=America/Vancouver:20240407T150000
DTEND;TZID=America/Vancouver:20240407T170000
DTSTAMP:20260425T033549
CREATED:20231207T190156Z
LAST-MODIFIED:20240309T150731Z
UID:3599-1712502000-1712509200@raisingthebarnw.com
SUMMARY:GINSPIRATION Cocktail Class
DESCRIPTION:Our spring cocktail class with Hogwash Whiskey Den is about gin: the origins\, the journey\, and once to America\, its prominence in American cocktail culture. And\, of course\, the drinks.\nThis gin-inspired interactive class will enlighten the gin enthusiast while mixing and sipping a chronology of 3 gin-based drinks. Gin has a distinctive history\, from the streets of Rotterdam to American bathtubs during prohibition and from gin houses to clubhouses. Hear the stories and make the drinks. \nClass set-up includes bartending stations with all the necessary tools\, fresh-made syrups and juices\, prepped and ready ingredients\, and vintage glassware. Shake\, swirl\, and sip in style as you deepen your knowledge of cocktails and develop your palate. \nThree cocktails\, mixology and history lessons\, appetizers\, and a cocktail booklet to take home and continue the fun.\nTICKETS ARE $75 per person. For full details and to purchase tickets\, CLICK HERE!\nBe the first to get notified when new classes are live. Click ‘FOLLOW’ at the link above. It takes you to our Eventbrite page\, and you can always get first dubs by getting these notifications. Cheers! \n 
URL:https://raisingthebarnw.com/event/ginspiration-cocktail-class/
LOCATION:Hogwash Whiskey Den\, 304 W. Pacific Ave\, Spokane\, WA\, 99201\, United States
CATEGORIES:Classes,Cocktail Class,Mixology Class
ATTACH;FMTTYPE=image/png:https://raisingthebarnw.com/wp-content/uploads/2023/12/Hogwash-GIN-Class-Apr24-SM-Landscape.png
END:VEVENT
BEGIN:VEVENT
DTSTART;TZID=America/Vancouver:20240413T180000
DTEND;TZID=America/Vancouver:20240413T193000
DTSTAMP:20260425T033549
CREATED:20240401T145524Z
LAST-MODIFIED:20240419T004345Z
UID:3636-1713031200-1713036600@raisingthebarnw.com
SUMMARY:GINspiration Cocktail Class at Commellinni Estate
DESCRIPTION:This gin-focused interactive class will enlighten the gin enthusiast while mixing and sipping a chronology of 3 gin-based drinks. Gin has a distinctive history\, from the streets of Rotterdam to American bathtubs during prohibition and from gin houses to clubhouses. Hear the stories and make the drinks. \n  \nClass begins with dinner from Chef Frank: focaccia bread\, Commelllini Ceasar Salad\, and a Pasta Bar Buffet Featuring three of the Commellini Estate Historical Sauces\, including our Spaghetti with Gina’s Vegetable Marinara\, Fettuccine and Albert’s White Wine Alfredo\, and Rigatoni and Leda’s Meat Sauce. \nThe Cocktail Class set-up includes bartending stations with all the necessary tools\, fresh-made syrups and juices\, prepped and ready ingredients\, and vintage glassware. Shake\, swirl\, and sip in style as you deepen your knowledge of cocktails and develop your palate.  \nLearn the history behind these classic Gin cocktails \n\n18th-century London gin punch — London dry gin\, lemon\, orange blossom water\, bitters\, fizzy water\nThe inspiration for the first martini in 19th-century San Francisco — gin\, sweet vermouth\, maraschino liqueur\, bitters\, orange oil\nA forgotten Prohibition-era gin cocktail resurrected in Seattle in the early 2000s — gin\, alpine liqueur\, lime\, maraschino liqueur\, brandied cherry \n\nMUST BE 21 and over. The class is limited to 30 guests.  \nTICKETS ARE $85 per person — all details and to purchase TICKETS CLICK HERE! \nWhat to Expect: In this intimate\, hands-on cocktail class\, you will be paired with vintage glassware and classic craft bartending tools at a station. \n+ 3 cocktails included \n+Learn skills for a lifetime \n+Work side-by-side with others to create delicious concoctions. \n+Interact with classmates and the instructor for a rich\, intimate learning experience \n+The class\, including mealtime\, takes approximately 3 hours. \n+Each participant will receive a specialized booklet provided by “Raising the Bar” with 3 cocktail recipes and history about each cocktail! \n+Raising the Bar will provide all the bartending equipment and supplies. \n+Class is not available to minors under the age of 21. Must bring proof of ID.
URL:https://raisingthebarnw.com/event/ginspiration-cocktail-class-at-commellinni-estate/
LOCATION:Commellini Estate\, 14715 N. Dartford Dr. Spokane\, WA\, Spokane\, WA\, 99208\, United States
CATEGORIES:Classes,Cocktail Class,Mixology Class
ATTACH;FMTTYPE=image/jpeg:https://raisingthebarnw.com/wp-content/uploads/2024/04/Commellini-AprGIN-Class.jpg
END:VEVENT
END:VCALENDAR