BEGIN:VCALENDAR
VERSION:2.0
PRODID:-//Raising the Bar - ECPv6.15.17.1//NONSGML v1.0//EN
CALSCALE:GREGORIAN
METHOD:PUBLISH
X-WR-CALNAME:Raising the Bar
X-ORIGINAL-URL:https://raisingthebarnw.com
X-WR-CALDESC:Events for Raising the Bar
REFRESH-INTERVAL;VALUE=DURATION:PT1H
X-Robots-Tag:noindex
X-PUBLISHED-TTL:PT1H
BEGIN:VTIMEZONE
TZID:America/Vancouver
BEGIN:DAYLIGHT
TZOFFSETFROM:-0800
TZOFFSETTO:-0700
TZNAME:PDT
DTSTART:20230312T100000
END:DAYLIGHT
BEGIN:STANDARD
TZOFFSETFROM:-0700
TZOFFSETTO:-0800
TZNAME:PST
DTSTART:20231105T090000
END:STANDARD
BEGIN:DAYLIGHT
TZOFFSETFROM:-0800
TZOFFSETTO:-0700
TZNAME:PDT
DTSTART:20240310T100000
END:DAYLIGHT
BEGIN:STANDARD
TZOFFSETFROM:-0700
TZOFFSETTO:-0800
TZNAME:PST
DTSTART:20241103T090000
END:STANDARD
BEGIN:DAYLIGHT
TZOFFSETFROM:-0800
TZOFFSETTO:-0700
TZNAME:PDT
DTSTART:20250309T100000
END:DAYLIGHT
BEGIN:STANDARD
TZOFFSETFROM:-0700
TZOFFSETTO:-0800
TZNAME:PST
DTSTART:20251102T090000
END:STANDARD
END:VTIMEZONE
BEGIN:VEVENT
DTSTART;VALUE=DATE:20241206
DTEND;VALUE=DATE:20241209
DTSTAMP:20260425T070513
CREATED:20241129T202053Z
LAST-MODIFIED:20241129T202055Z
UID:3704-1733443200-1733702399@raisingthebarnw.com
SUMMARY:Urban Craft Uprising Winter Show + Preview Night
DESCRIPTION:Find our Badass Bitters DIY Cocktail Bitters Kits at Urban Craft Uprising’s Winter Show\, Dec. 6-8 at the Seattle Center Exhibition Hall.\nOur kits are the perfect gift for the cocktail enthusiasts on your gift list. We learn best by doing and making bitters is a great way to learn about American cocktail culture and the science of mixology. Learn more about Badass Bitters here.\nUrban Craft Uprising is Seattle’s favorite craft show\, established in 2005. At UCU\, fans can choose from a wide variety of hand-crafted goods\, including clothing of all types\, jewelry\, gifts\, bags\, wallets\, buttons\, accessories\, aprons\, children’s goods\, toys\, housewares\, furniture\, paper goods\, candles\, kits\, geekery\, art\, food\, and much\, much more.\nEach show is carefully curated and juried to ensure the best mix of crafts and arts\, along with quality and originality. This bi-annual show features over 150 vendors excelling in the world of craft\, art and design. Over the course of its 20 years\, UCU has garnered such a following attention that nearly 15\,000 fans swarm to the show over the course of the weekend.\nHundreds of fans are lined up before our doors open to receive our famous swag bags full of goodies from our vendors and lovely sponsors. This show is free and fun for the whole family! We look forward to seeing you!\nThis winter marks Urban Craft Uprising’s 20th Anniversary Show!!! FIND ALL DETAILS HERE! \nSHOW HOURS: \n\nFriday\, Dec.\, 6\, 5-9 pm PREVIEW NIGHT\nSaturday\, Dec. 7\, 10 am to 6 pm\nSunday\, Dec. 8\, 10 am to 5 pm\n\n 
URL:https://raisingthebarnw.com/event/urban-craft-uprising-winter-show-preview-night/
LOCATION:Seattle Center Exhibition Hall\, 301 Mercer St\, Seattle\, WA\, 98109\, United States
CATEGORIES:Popup Shop,Special Event
ATTACH;FMTTYPE=image/jpeg:https://raisingthebarnw.com/wp-content/uploads/2024/11/UCU-Dec24.jpg
END:VEVENT
END:VCALENDAR