BEGIN:VCALENDAR
VERSION:2.0
PRODID:-//Raising the Bar - ECPv6.15.17.1//NONSGML v1.0//EN
CALSCALE:GREGORIAN
METHOD:PUBLISH
X-WR-CALNAME:Raising the Bar
X-ORIGINAL-URL:https://raisingthebarnw.com
X-WR-CALDESC:Events for Raising the Bar
REFRESH-INTERVAL;VALUE=DURATION:PT1H
X-Robots-Tag:noindex
X-PUBLISHED-TTL:PT1H
BEGIN:VTIMEZONE
TZID:America/Vancouver
BEGIN:DAYLIGHT
TZOFFSETFROM:-0800
TZOFFSETTO:-0700
TZNAME:PDT
DTSTART:20240310T100000
END:DAYLIGHT
BEGIN:STANDARD
TZOFFSETFROM:-0700
TZOFFSETTO:-0800
TZNAME:PST
DTSTART:20241103T090000
END:STANDARD
BEGIN:DAYLIGHT
TZOFFSETFROM:-0800
TZOFFSETTO:-0700
TZNAME:PDT
DTSTART:20250309T100000
END:DAYLIGHT
BEGIN:STANDARD
TZOFFSETFROM:-0700
TZOFFSETTO:-0800
TZNAME:PST
DTSTART:20251102T090000
END:STANDARD
BEGIN:DAYLIGHT
TZOFFSETFROM:-0800
TZOFFSETTO:-0700
TZNAME:PDT
DTSTART:20260308T100000
END:DAYLIGHT
BEGIN:STANDARD
TZOFFSETFROM:-0700
TZOFFSETTO:-0800
TZNAME:PST
DTSTART:20261101T090000
END:STANDARD
END:VTIMEZONE
BEGIN:VEVENT
DTSTART;TZID=America/Vancouver:20251106T190000
DTEND;TZID=America/Vancouver:20251106T213000
DTSTAMP:20260423T192414
CREATED:20251019T205914Z
LAST-MODIFIED:20251019T205932Z
UID:3797-1762455600-1762464600@raisingthebarnw.com
SUMMARY:History After Hours: Dressing the Gilded Age
DESCRIPTION:Thursday\, November 6\, 7:00 to 9:30 PM\n$20 for members; $25 pre-registration\, $30 at the door\nRegister here\nJoin us at the Washington State History Museum to explore the luxurious world of the Gilded Age at this fun-filled event! Guests can take a guided tour of the exhibition Dressing the Gilded Age: Fashion from the 1870s to 1910s\, and Raising the Bar will discuss Gilded Age history and lead an interactive cocktail-making demonstration. \nThis evening of fun and history is a 21+ event\, and IDs are required. Admission includes two drink tickets.\n \nRenée Cebula \n\n  \n  \n  \n  \n  \nRaising the Bar is a project by northwest native\, Renée Cebula. A former history educator\, her research focus turned to cocktail culture in America during the World Wars. The deeper into this topic\, the more her intellectual curiosities expanded to include America’s drinking history\, the development of specialized tools and equipment\, and the stories of mid-century decorative artists.
URL:https://raisingthebarnw.com/event/history-after-hours-dressing-the-gilded-age/
LOCATION:washington state history museum\, 1911 Pacific Avenue\, Tacoma\, WA\, 98402\, United States
CATEGORIES:Special Event
ATTACH;FMTTYPE=image/jpeg:https://raisingthebarnw.com/wp-content/uploads/2025/10/gilded_age_WA_history_museum.jpg
END:VEVENT
END:VCALENDAR