BEGIN:VCALENDAR
VERSION:2.0
PRODID:-//Raising the Bar - ECPv6.15.17.1//NONSGML v1.0//EN
CALSCALE:GREGORIAN
METHOD:PUBLISH
X-ORIGINAL-URL:https://raisingthebarnw.com
X-WR-CALDESC:Events for Raising the Bar
REFRESH-INTERVAL;VALUE=DURATION:PT1H
X-Robots-Tag:noindex
X-PUBLISHED-TTL:PT1H
BEGIN:VTIMEZONE
TZID:America/Vancouver
BEGIN:DAYLIGHT
TZOFFSETFROM:-0800
TZOFFSETTO:-0700
TZNAME:PDT
DTSTART:20240310T100000
END:DAYLIGHT
BEGIN:STANDARD
TZOFFSETFROM:-0700
TZOFFSETTO:-0800
TZNAME:PST
DTSTART:20241103T090000
END:STANDARD
BEGIN:DAYLIGHT
TZOFFSETFROM:-0800
TZOFFSETTO:-0700
TZNAME:PDT
DTSTART:20250309T100000
END:DAYLIGHT
BEGIN:STANDARD
TZOFFSETFROM:-0700
TZOFFSETTO:-0800
TZNAME:PST
DTSTART:20251102T090000
END:STANDARD
BEGIN:DAYLIGHT
TZOFFSETFROM:-0800
TZOFFSETTO:-0700
TZNAME:PDT
DTSTART:20260308T100000
END:DAYLIGHT
BEGIN:STANDARD
TZOFFSETFROM:-0700
TZOFFSETTO:-0800
TZNAME:PST
DTSTART:20261101T090000
END:STANDARD
END:VTIMEZONE
BEGIN:VEVENT
DTSTART;TZID=America/Vancouver:20250427T150000
DTEND;TZID=America/Vancouver:20250427T170000
DTSTAMP:20260424T030107
CREATED:20250112T201436Z
LAST-MODIFIED:20250404T162457Z
UID:3726-1745766000-1745773200@raisingthebarnw.com
SUMMARY:Atomic Cocktails: Mid-Century Modernism in a Glass
DESCRIPTION:OUR APRIL COCKTAIL CLASS IS ALL ABOUT COCKTAIL CULTURE IN MID-CENTURY AMERICA!\n\n\nJoin us for an exploration of mid-century cocktails as you not only sip on these classic concoctions but also uncover the intriguing stories behind each one. Plus\, you’ll have the chance to hone your mixology skills.\n  \nExplore the dynamic era of mid-twentieth-century America\, where modernist design\, the space race\, and the rise of suburbs converged with a revival of cocktail culture\, reshaping social life. Learn about the forces behind these transformations while enjoying the drinks that defined the era. It was a time when bars became prominent in homes and offices\, serving as lively social hubs for leisure and business gatherings. \nHogwash Whiskey Den’s master mixologist\, Simon\, will guide you through the ingredients with mixology lessons on using the barkeep’s tools and techniques. Raising the Bar’s resident historian\, Renée\, will illuminate the stories and history of mid-century cocktail culture. \nTickets are $75 per person. BUY TICKETS HERE! \nYour ticket includes: \n\nThree crafted drinks\nMixology and history lessons\nAppetizers\nA cocktail recipe booklet\n\nClass includes a bartending station for each pair of guests\, fresh-made and prepped ingredients\, and vintage glassware. \nDon’t miss out on this unique opportunity to learn\, create\, and connect over exquisite libations. Join us and be part of a celebration that skillfully blends history and the joy of cocktail crafting. Reserve your spot today! \nMUST BE 21 and over. The class is limited to 30 guests. \nIf you have questions\, please email Renée at owner@raisingthebarnw.com. \n\n\nAre you following us and Hogwash Whiskey Den on Instagram? \n\nRaising the Bar on Instagram > @badassbarware\nHogwash Whiskey Den on Instagram> @Hogwash Whiskey Den
URL:https://raisingthebarnw.com/event/april-cocktail-class-with-hogwash-whiskey-den/
LOCATION:Hogwash Whiskey Den\, 304 W. Pacific Ave\, Spokane\, WA\, 99201\, United States
CATEGORIES:Classes,Cocktail Class,Mixology Class
ATTACH;FMTTYPE=image/png:https://raisingthebarnw.com/wp-content/uploads/2025/04/April-ATOMIC-Class-Postcard-Cover.png
END:VEVENT
END:VCALENDAR