BEGIN:VCALENDAR
VERSION:2.0
PRODID:-//Raising the Bar - ECPv6.15.17.1//NONSGML v1.0//EN
CALSCALE:GREGORIAN
METHOD:PUBLISH
X-WR-CALNAME:Raising the Bar
X-ORIGINAL-URL:https://raisingthebarnw.com
X-WR-CALDESC:Events for Raising the Bar
REFRESH-INTERVAL;VALUE=DURATION:PT1H
X-Robots-Tag:noindex
X-PUBLISHED-TTL:PT1H
BEGIN:VTIMEZONE
TZID:America/Vancouver
BEGIN:DAYLIGHT
TZOFFSETFROM:-0800
TZOFFSETTO:-0700
TZNAME:PDT
DTSTART:20220313T100000
END:DAYLIGHT
BEGIN:STANDARD
TZOFFSETFROM:-0700
TZOFFSETTO:-0800
TZNAME:PST
DTSTART:20221106T090000
END:STANDARD
BEGIN:DAYLIGHT
TZOFFSETFROM:-0800
TZOFFSETTO:-0700
TZNAME:PDT
DTSTART:20230312T100000
END:DAYLIGHT
BEGIN:STANDARD
TZOFFSETFROM:-0700
TZOFFSETTO:-0800
TZNAME:PST
DTSTART:20231105T090000
END:STANDARD
BEGIN:DAYLIGHT
TZOFFSETFROM:-0800
TZOFFSETTO:-0700
TZNAME:PDT
DTSTART:20240310T100000
END:DAYLIGHT
BEGIN:STANDARD
TZOFFSETFROM:-0700
TZOFFSETTO:-0800
TZNAME:PST
DTSTART:20241103T090000
END:STANDARD
END:VTIMEZONE
BEGIN:VEVENT
DTSTART;TZID=America/Vancouver:20231210T150000
DTEND;TZID=America/Vancouver:20231210T170000
DTSTAMP:20260425T060642
CREATED:20231201T044820Z
LAST-MODIFIED:20231201T044820Z
UID:3572-1702220400-1702227600@raisingthebarnw.com
SUMMARY:Holiday Cocktail Class
DESCRIPTION:Our final class of the year features drinks inspired by the classic holiday movie It’s a Wonderful Life. In the film\, Clarence enters a bar with George Bailey\, whom he just saved from drowning. George orders a double bourbon. Clarence\, whose last visit to Earth seems to have been sometime in the 1800s\, requests a “flaming rum punch.” These tipples are the inspiration for our holiday cocktail class\, along with stories about the film and American cocktail culture at the time. \n  \nYes\, there will be fire. We begin with a historic punch from England and one of Charles Dickens’ favorites. Then Hogwash Whiskey Den’s master mixologist\, Simon\, will guide you through 2 additional cocktails inspired by the movie. Your mixology lessons will be complete with a primer on using the barkeep’s tools and techniques. Raising the Bar’s resident historian\, Renée (that’s ME)\, will illuminate the stories and history behind these classic drinks. \nTickets are $75 per person. Your ticket includes: \n\nThree crafted drinks\nMixology and history lessons\nAppetizers\nA cocktail recipe booklet\n\nClass includes a bartending station for each pair of guests\, fresh-made and prepped ingredients\, and vintage glassware. Shake\, stir\, and sip in style as you deepen your knowledge of cocktails and develop your palate. \nPURCHASE TICKETS HERE. \nMUST BE 21+ only. Please bring your ID. \nThe class is limited to 30 guests.
URL:https://raisingthebarnw.com/event/holiday-cocktail-class/
LOCATION:Hogwash Whiskey Den\, 304 W. Pacific Ave\, Spokane\, WA\, 99201\, United States
CATEGORIES:Classes,Cocktail Class,Mixology Class
ATTACH;FMTTYPE=image/png:https://raisingthebarnw.com/wp-content/uploads/2023/11/Wonderful-Life-Class23-IG.png
END:VEVENT
END:VCALENDAR