BEGIN:VCALENDAR
VERSION:2.0
PRODID:-//Raising the Bar - ECPv6.15.17.1//NONSGML v1.0//EN
CALSCALE:GREGORIAN
METHOD:PUBLISH
X-ORIGINAL-URL:https://raisingthebarnw.com
X-WR-CALDESC:Events for Raising the Bar
REFRESH-INTERVAL;VALUE=DURATION:PT1H
X-Robots-Tag:noindex
X-PUBLISHED-TTL:PT1H
BEGIN:VTIMEZONE
TZID:America/Vancouver
BEGIN:DAYLIGHT
TZOFFSETFROM:-0800
TZOFFSETTO:-0700
TZNAME:PDT
DTSTART:20230312T100000
END:DAYLIGHT
BEGIN:STANDARD
TZOFFSETFROM:-0700
TZOFFSETTO:-0800
TZNAME:PST
DTSTART:20231105T090000
END:STANDARD
BEGIN:DAYLIGHT
TZOFFSETFROM:-0800
TZOFFSETTO:-0700
TZNAME:PDT
DTSTART:20240310T100000
END:DAYLIGHT
BEGIN:STANDARD
TZOFFSETFROM:-0700
TZOFFSETTO:-0800
TZNAME:PST
DTSTART:20241103T090000
END:STANDARD
BEGIN:DAYLIGHT
TZOFFSETFROM:-0800
TZOFFSETTO:-0700
TZNAME:PDT
DTSTART:20250309T100000
END:DAYLIGHT
BEGIN:STANDARD
TZOFFSETFROM:-0700
TZOFFSETTO:-0800
TZNAME:PST
DTSTART:20251102T090000
END:STANDARD
END:VTIMEZONE
BEGIN:VEVENT
DTSTART;TZID=America/Vancouver:20241215T150000
DTEND;TZID=America/Vancouver:20241215T170000
DTSTAMP:20260424T094137
CREATED:20240911T142211Z
LAST-MODIFIED:20241129T202206Z
UID:3677-1734274800-1734282000@raisingthebarnw.com
SUMMARY:Holiday Cocktail Class with Hogwash Whiskey Den
DESCRIPTION:Join us for our festive cocktail class on December 15th with Hogwash Whiskey Den! Only a few tickets remain for the 12/15 class.\nA second class has been added for 12/22. Tickets here!\nHoliday Cocktails from the Big Screen\nOur final class of the year features drinks inspired by cinema’s holiday classics. The cocktails served and celebrated in many of our favorite holiday movies tell stories of American culture through the decades. Learn and be inspired by these traditional holiday tipples of our past while we enjoy three delicious drinks that celebrate the season. \nYes\, once again\, there will be fire. We begin with one of the historic winter drinks famous in England\, a winter favorite in colonial America\, and highlighted in a holiday film. Then\, Hogwash Whiskey Den’s master mixologist\, Simon\, will guide you through 2 additional cocktails inspired by the holiday classics. Mixology lessons will have you stirring and shaking\, guided by a primer on using the barkeep’s tools and techniques. Raising the Bar’s resident historian\, Renée\, will illuminate the stories and history behind these classic drinks. \nTickets are $75 per person. Your ticket includes: \n\nThree crafted drinks\nMixology and history lessons\nAppetizers\nA cocktail recipe booklet\n\nClass includes a bartending station for each pair of guests\, fresh-made and prepped ingredients\, and vintage glassware. Shake\, stir\, and sip in style as you deepen your knowledge of cocktails and develop your palate. \nMUST BE 21 and over. The class is limited to 30 guests. \nALLERGY ALERT: One of the drinks contains cinnamon. Please get in touch with us if you have an allergy so we can have an alternate drink. \nIf you have questions\, please email Renée at owner@raisingthebarnw.com. \nFind us on Instagram: Raising the Bar \nCheck us out on Facebook: Hogwash Whiskey Den
URL:https://raisingthebarnw.com/event/holiday-cocktail-class-at-hogwash-whiskey-den/
LOCATION:Hogwash Whiskey Den\, 304 W. Pacific Ave\, Spokane\, WA\, 99201\, United States
CATEGORIES:Classes,Cocktail Class,Mixology Class
ATTACH;FMTTYPE=image/png:https://raisingthebarnw.com/wp-content/uploads/2024/09/HWD-HOLIDAY-COCKTAIL-CLASS.png
END:VEVENT
BEGIN:VEVENT
DTSTART;TZID=America/Vancouver:20241222T150000
DTEND;TZID=America/Vancouver:20241222T170000
DTSTAMP:20260424T094137
CREATED:20241126T035438Z
LAST-MODIFIED:20241126T040200Z
UID:3701-1734879600-1734886800@raisingthebarnw.com
SUMMARY:Holiday Cocktail Class with Hogwash Whiskey Den
DESCRIPTION:Join us for our festive cocktail class on December 22nd with Hogwash Whiskey Den!\nOur final class of the year features drinks inspired by cinema’s holiday classics. The cocktails served and celebrated in many of our favorite holiday movies tell stories of American culture through the decades. Learn and be inspired by these traditional holiday tipples of our past while we enjoy three delicious drinks that celebrate the season.\nYes\, once again\, there will be fire. We begin with one of the historic winter drinks famous in England\, a winter favorite in colonial America\, and highlighted in a holiday film. Then\, Hogwash Whiskey Den’s master mixologist\, Simon\, will guide you through 2 additional cocktails inspired by the holiday classics. Mixology lessons will have you stirring and shaking\, guided by a primer on using the barkeep’s tools and techniques. Raising the Bar’s resident historian\, Renée\, will illuminate the stories and history behind these classic drinks.\nTickets are $75 per person. Your ticket includes:\n\n\nThree crafted drinks\n\n\nMixology and history lessons\n\n\nAppetizers\n\n\nA cocktail recipe booklet\n\n\nClass includes a bartending station for each pair of guests\, fresh-made and prepped ingredients\, and vintage glassware. Shake\, stir\, and sip in style as you deepen your knowledge of cocktails and develop your palate.\nMUST BE 21 and over. The class is limited to 30 guests.\nALLERGY ALERT: One of the drinks contains cinnamon. Please get in touch with us if you have an allergy so we can have an alternate drink.\nIf you have questions\, please email Renée at owner@raisingthebarnw.com.\nFind us on Instagram: Raising the Bar\nCheck us out on Facebook: Hogwash Whiskey Den
URL:https://raisingthebarnw.com/event/holiday-cocktail-class-with-hogwash-whiskey-den-2/
LOCATION:Hogwash Whiskey Den\, 304 W. Pacific Ave\, Spokane\, WA\, 99201\, United States
CATEGORIES:Classes,Cocktail Class,Mixology Class
ATTACH;FMTTYPE=image/jpeg:https://raisingthebarnw.com/wp-content/uploads/2024/11/HWD-Dec24-Cocktail-Class2-1222-IG.jpg
END:VEVENT
END:VCALENDAR