BEGIN:VCALENDAR
VERSION:2.0
PRODID:-//Raising the Bar - ECPv6.15.17.1//NONSGML v1.0//EN
CALSCALE:GREGORIAN
METHOD:PUBLISH
X-WR-CALNAME:Raising the Bar
X-ORIGINAL-URL:https://raisingthebarnw.com
X-WR-CALDESC:Events for Raising the Bar
REFRESH-INTERVAL;VALUE=DURATION:PT1H
X-Robots-Tag:noindex
X-PUBLISHED-TTL:PT1H
BEGIN:VTIMEZONE
TZID:America/Vancouver
BEGIN:DAYLIGHT
TZOFFSETFROM:-0800
TZOFFSETTO:-0700
TZNAME:PDT
DTSTART:20220313T100000
END:DAYLIGHT
BEGIN:STANDARD
TZOFFSETFROM:-0700
TZOFFSETTO:-0800
TZNAME:PST
DTSTART:20221106T090000
END:STANDARD
BEGIN:DAYLIGHT
TZOFFSETFROM:-0800
TZOFFSETTO:-0700
TZNAME:PDT
DTSTART:20230312T100000
END:DAYLIGHT
BEGIN:STANDARD
TZOFFSETFROM:-0700
TZOFFSETTO:-0800
TZNAME:PST
DTSTART:20231105T090000
END:STANDARD
BEGIN:DAYLIGHT
TZOFFSETFROM:-0800
TZOFFSETTO:-0700
TZNAME:PDT
DTSTART:20240310T100000
END:DAYLIGHT
BEGIN:STANDARD
TZOFFSETFROM:-0700
TZOFFSETTO:-0800
TZNAME:PST
DTSTART:20241103T090000
END:STANDARD
END:VTIMEZONE
BEGIN:VEVENT
DTSTART;TZID=America/Vancouver:20230806T170000
DTEND;TZID=America/Vancouver:20230806T193000
DTSTAMP:20260425T084206
CREATED:20230605T203444Z
LAST-MODIFIED:20230605T203654Z
UID:3545-1691341200-1691350200@raisingthebarnw.com
SUMMARY:Camp Cocktail: Havana
DESCRIPTION:At the height of America’s Golden Age of Cocktails\, Prohibition shuttered the doors of drinking establishments. That golden age had fueled the rise of a cadre of professional bartenders. What happens when your career abruptly ends? Thousands of bartenders went abroad to continue their profession. They continued to stir and shake\, but more importantly\, to preserve and expand American cocktail culture creating new classics that\, today\, are part of America’s cocktail canon. Let’s learn the stories and taste these drinks!  \nWe had so much fun at last year’s Camp Cocktail that we had to make it a tradition. Continuing the theme of great cocktail cities\, we decided this year’s theme would be the history and stories of three great cocktail cities during Prohibition. The final Camp Cocktail is about the story-worthy cocktails invented in Havana.  \nJoin us for this hands-on interactive class on Sunday\, August 6th\, at 5 pm (our summer classes start later). Camp activity is stirring and shaking classic cocktails and learning the stories behind the drinks. Develop your palate and practice the mixologist’s techniques. Enjoy appetizers\, and take home your Camp Cocktail booklet to continue your mixology adventures at home. Hogwash Whiskey Den’s master mixologist\, Simon\, guides you through the use of tools and techniques. Raising the Bar’s cocktail historian\, Renée\, tells the stories behind the drinks.  \nClass set-up includes bartending stations with all the necessary tools\, fresh-made and prepped ingredients\, and vintage glassware.  \nTickets are $75 per person. Purchase TICKETS HERE!  \nYour ticket includes the following: \n\nThree crafted drinks\nMixology and history lessons\nAppetizers\nA Camp Cocktail recipe booklet\n\nMUST BE 21 and over. The class is limited to 30 guests.  \nIf you have questions\, please email Renée at owner@raisingthebarnw.com.  \nFind us on Instagram: Raising the Bar \nCheck us out on Facebook: Hogwash Whiskey Den
URL:https://raisingthebarnw.com/event/camp-cocktail-havana/
LOCATION:Hogwash Whiskey Den\, 304 W. Pacific Ave\, Spokane\, WA\, 99201\, United States
CATEGORIES:Classes,Cocktail Class,Mixology Class,Special Event
END:VEVENT
END:VCALENDAR