BEGIN:VCALENDAR
VERSION:2.0
PRODID:-//Raising the Bar - ECPv6.15.17.1//NONSGML v1.0//EN
CALSCALE:GREGORIAN
METHOD:PUBLISH
X-ORIGINAL-URL:https://raisingthebarnw.com
X-WR-CALDESC:Events for Raising the Bar
REFRESH-INTERVAL;VALUE=DURATION:PT1H
X-Robots-Tag:noindex
X-PUBLISHED-TTL:PT1H
BEGIN:VTIMEZONE
TZID:America/Vancouver
BEGIN:DAYLIGHT
TZOFFSETFROM:-0800
TZOFFSETTO:-0700
TZNAME:PDT
DTSTART:20220313T100000
END:DAYLIGHT
BEGIN:STANDARD
TZOFFSETFROM:-0700
TZOFFSETTO:-0800
TZNAME:PST
DTSTART:20221106T090000
END:STANDARD
BEGIN:DAYLIGHT
TZOFFSETFROM:-0800
TZOFFSETTO:-0700
TZNAME:PDT
DTSTART:20230312T100000
END:DAYLIGHT
BEGIN:STANDARD
TZOFFSETFROM:-0700
TZOFFSETTO:-0800
TZNAME:PST
DTSTART:20231105T090000
END:STANDARD
BEGIN:DAYLIGHT
TZOFFSETFROM:-0800
TZOFFSETTO:-0700
TZNAME:PDT
DTSTART:20240310T100000
END:DAYLIGHT
BEGIN:STANDARD
TZOFFSETFROM:-0700
TZOFFSETTO:-0800
TZNAME:PST
DTSTART:20241103T090000
END:STANDARD
END:VTIMEZONE
BEGIN:VEVENT
DTSTART;TZID=America/Vancouver:20230416T150000
DTEND;TZID=America/Vancouver:20230416T170000
DTSTAMP:20260425T155905
CREATED:20230329T170824Z
LAST-MODIFIED:20230329T175342Z
UID:3512-1681657200-1681664400@raisingthebarnw.com
SUMMARY:GINSPIRATION Cocktail Class with Hogwash Whiskey Den
DESCRIPTION:SPRING shouts GIN in our book\, so our first spring class is about GIN! \nWhat is gin? What are the classic gin cocktails? Was gin made in bathtubs during Prohibition? This gin-focused interactive class will answer these questions and more. Learn about the origin of gin and its history alongside mixing and enjoying three gin cocktails.  \nHogwash Whiskey Den’s master mixologist\, Simon\, guides you through the use of tools and techniques. Raising the Bar’s cocktail historian\, Renée tells the stories behind this popular spirit.  \nClass set-up includes bartending stations with all the necessary tools\, fresh-made and prepped ingredients\, and vintage glassware. Shake\, swirl\, and sip in style as you deepen your knowledge of cocktails and develop your palate.  \nTickets are $65 per person. Purchase TICKETS HERE!  \nYour ticket includes the following: \n\nThree crafted drinks.\nMixology and history lessons.\nAppetizers.\nA cocktail recipe booklet. \n\nMUST BE 21 and over. The class is limited to 30 guests. 
URL:https://raisingthebarnw.com/event/ginspiration-cocktail-class-with-hogwash-whiskey-den-2/
LOCATION:Hogwash Whiskey Den\, 304 W. Pacific Ave\, Spokane\, WA\, 99201\, United States
CATEGORIES:Classes,Cocktail Class,Mixology Class
ATTACH;FMTTYPE=image/png:https://raisingthebarnw.com/wp-content/uploads/2023/03/Hogwash-GIN-Class-Apr23-SM-Square.png
END:VEVENT
END:VCALENDAR