BEGIN:VCALENDAR
VERSION:2.0
PRODID:-//Raising the Bar - ECPv6.15.17.1//NONSGML v1.0//EN
CALSCALE:GREGORIAN
METHOD:PUBLISH
X-ORIGINAL-URL:https://raisingthebarnw.com
X-WR-CALDESC:Events for Raising the Bar
REFRESH-INTERVAL;VALUE=DURATION:PT1H
X-Robots-Tag:noindex
X-PUBLISHED-TTL:PT1H
BEGIN:VTIMEZONE
TZID:America/Vancouver
BEGIN:DAYLIGHT
TZOFFSETFROM:-0800
TZOFFSETTO:-0700
TZNAME:PDT
DTSTART:20230312T100000
END:DAYLIGHT
BEGIN:STANDARD
TZOFFSETFROM:-0700
TZOFFSETTO:-0800
TZNAME:PST
DTSTART:20231105T090000
END:STANDARD
BEGIN:DAYLIGHT
TZOFFSETFROM:-0800
TZOFFSETTO:-0700
TZNAME:PDT
DTSTART:20240310T100000
END:DAYLIGHT
BEGIN:STANDARD
TZOFFSETFROM:-0700
TZOFFSETTO:-0800
TZNAME:PST
DTSTART:20241103T090000
END:STANDARD
BEGIN:DAYLIGHT
TZOFFSETFROM:-0800
TZOFFSETTO:-0700
TZNAME:PDT
DTSTART:20250309T100000
END:DAYLIGHT
BEGIN:STANDARD
TZOFFSETFROM:-0700
TZOFFSETTO:-0800
TZNAME:PST
DTSTART:20251102T090000
END:STANDARD
END:VTIMEZONE
BEGIN:VEVENT
DTSTART;TZID=America/Vancouver:20241006T150000
DTEND;TZID=America/Vancouver:20241006T170000
DTSTAMP:20260425T033331
CREATED:20240911T141348Z
LAST-MODIFIED:20240930T225051Z
UID:3672-1728226800-1728234000@raisingthebarnw.com
SUMMARY:Spooky Libations Cocktail Class
DESCRIPTION:This October 6th class is sold out. We’ve added a second class on October 13th. DETAILS AND TICKETS HERE!\nJoin us for a spooktacular October cocktail class! Embrace the Halloween spirit with us as we guide you through mixing three unique\, spooky-inspired cocktails.\n  \nWe’ll use a variety of base spirits and draw inspiration from the masters of thriller and macabre. Dive deep into the stories behind the drinks as you learn to mix them step by step. The class setup includes bartending stations equipped with all the necessary tools\, fresh-made syrups and juices\, prepped and ready ingredients\, and vintage glassware. You’ll shake\, swirl\, and sip in style as you deepen your knowledge of cocktails and develop your palate. Costumes are optional but encouraged! \nHogwash Whiskey Den’s master mixologist\, Simon\, will guide you through the use of tools and techniques. Raising the Bar’s cocktail historian\, Renée\, will tell the stories behind three spooky-inspired drinks. \nTickets are $75 per person. Your ticket includes the following: \n\nThree crafted drinks\nMixology and history lessons\nAppetizers\nCocktail recipe booklet\n\nMUST BE 21 and over. The class is limited to 30 guests. \nPurchase tickets here!\nCostumes are optional but encouraged! \nDid you know our classes are perfect for couples\, cocktail enthusiasts\, beginners\, new bartenders looking to expand their craft\, or small groups? \nIf you have any questions\, please email Renée at owner@raisingthebarNW.com.
URL:https://raisingthebarnw.com/event/spooky-libations-cocktail-class/
LOCATION:Hogwash Whiskey Den\, 304 W. Pacific Ave\, Spokane\, WA\, 99201\, United States
CATEGORIES:Classes,Cocktail Class,Mixology Class
ATTACH;FMTTYPE=image/png:https://raisingthebarnw.com/wp-content/uploads/2024/09/Spooky-Cocktail-Class-Oct2024-IG-Landscape.png
END:VEVENT
BEGIN:VEVENT
DTSTART;TZID=America/Vancouver:20241013T150000
DTEND;TZID=America/Vancouver:20241013T170000
DTSTAMP:20260425T033331
CREATED:20240930T224724Z
LAST-MODIFIED:20240930T224726Z
UID:3681-1728831600-1728838800@raisingthebarnw.com
SUMMARY:Spooky Cocktail Class 2 with Hogwash Whiskey Den
DESCRIPTION:The first class sold out\, so we’ve added a second class in October!\nJoin us for a spooktacular October cocktail class! Embrace the Halloween spirit with us as we guide you through mixing three unique\, spooky-inspired cocktails. \nWe’ll use a variety of base spirits and draw inspiration from the masters of thriller and macabre. Dive deep into the stories behind the drinks as you learn to mix them step by step. The class setup includes bartending stations equipped with all the necessary tools\, fresh-made syrups and juices\, prepped and ready ingredients\, and vintage glassware. You’ll shake\, swirl\, and sip in style as you deepen your knowledge of cocktails and develop your palate. Costumes are optional but encouraged! \nHogwash Whiskey Den’s master mixologist\, Simon\, will guide you through tools and techniques. Raising the Bar’s cocktail historian\, Renée will tell the stories behind three spooky-inspired drinks. \nTickets are $75 per person. Your ticket includes the following: \n\nThree crafted drinks\nMixology and history lessons\nAppetizers\nCocktail recipe booklet\n\nMUST BE 21 and over. The class is limited to 30 guests. \nPURCHASE TICKETS HERE!  \nCostumes are optional but encouraged! \nDid you know our classes are perfect for couples\, cocktail enthusiasts\, beginners\, new bartenders looking to expand their craft\, or small groups? \nIf you have any questions\, please email Renée at owner@raisingthebarNW.com. \nFind us and follow us on Instagram: Raising the Bar. \nCheck us out on Facebook: Hogwash Whiskey Den.
URL:https://raisingthebarnw.com/event/spooky-cocktail-class-2-with-hogwash-whiskey-den/
LOCATION:Hogwash Whiskey Den\, 304 W. Pacific Ave\, Spokane\, WA\, 99201\, United States
CATEGORIES:Classes,Cocktail Class,Mixology Class
ATTACH;FMTTYPE=image/png:https://raisingthebarnw.com/wp-content/uploads/2024/09/Spooky-Cocktail-Class2-Oct2024-IG-Landscape.png
END:VEVENT
END:VCALENDAR