BEGIN:VCALENDAR
VERSION:2.0
PRODID:-//Raising the Bar - ECPv6.15.17.1//NONSGML v1.0//EN
CALSCALE:GREGORIAN
METHOD:PUBLISH
X-WR-CALNAME:Raising the Bar
X-ORIGINAL-URL:https://raisingthebarnw.com
X-WR-CALDESC:Events for Raising the Bar
REFRESH-INTERVAL;VALUE=DURATION:PT1H
X-Robots-Tag:noindex
X-PUBLISHED-TTL:PT1H
BEGIN:VTIMEZONE
TZID:America/Vancouver
BEGIN:DAYLIGHT
TZOFFSETFROM:-0800
TZOFFSETTO:-0700
TZNAME:PDT
DTSTART:20230312T100000
END:DAYLIGHT
BEGIN:STANDARD
TZOFFSETFROM:-0700
TZOFFSETTO:-0800
TZNAME:PST
DTSTART:20231105T090000
END:STANDARD
BEGIN:DAYLIGHT
TZOFFSETFROM:-0800
TZOFFSETTO:-0700
TZNAME:PDT
DTSTART:20240310T100000
END:DAYLIGHT
BEGIN:STANDARD
TZOFFSETFROM:-0700
TZOFFSETTO:-0800
TZNAME:PST
DTSTART:20241103T090000
END:STANDARD
BEGIN:DAYLIGHT
TZOFFSETFROM:-0800
TZOFFSETTO:-0700
TZNAME:PDT
DTSTART:20250309T100000
END:DAYLIGHT
BEGIN:STANDARD
TZOFFSETFROM:-0700
TZOFFSETTO:-0800
TZNAME:PST
DTSTART:20251102T090000
END:STANDARD
END:VTIMEZONE
BEGIN:VEVENT
DTSTART;TZID=America/Vancouver:20240825T170000
DTEND;TZID=America/Vancouver:20240825T190000
DTSTAMP:20260425T084438
CREATED:20231207T191443Z
LAST-MODIFIED:20240602T185317Z
UID:3607-1724605200-1724612400@raisingthebarnw.com
SUMMARY:August Camp Cocktail Class: Cocktail Time at the World's Fair
DESCRIPTION:Take a tasting trip through 1960s and 70s cocktail culture through the drinks served at the World’s Fairs in the great PNW. From Seattle’s Century 21 Exposition to Spokane’s Expo 74\, drinking culture was having a moment but on the precipice of change. This final class of Camp Cocktail will be about the pushes and pulls of American culture that affected what fairgoers imbibed at the fairs.\nThis interactive class combines history and mixology. Hogwash Whiskey Den’s master mixologist\, Simon Moorby\, guides you through making three cocktails. Your mixology lessons include the techniques and correct use of the barkeep’s tools and techniques. Historian Renée Cebula with Raising the Bar shares how the fairs celebrated American cocktail culture to the world.\n  \nShake\, stir\, and sip in style as you hear the stories\, learn the techniques\, and enjoy the drinks. Enjoy appetizers\, and take home your recipe booklet to continue your cocktail explorations at home. \nClass set-up includes bartending stations with all the necessary tools\, fresh-made syrups and juices\, prepped and ready ingredients\, and vintage glassware. \nTickets are $75 per person. Your ticket includes the following: \n\nThree crafted drinks\nMixology and history lessons\nAppetizers\nCocktail recipe booklet\n\nPURCHASE TICKETS HERE!\nMUST BE 21 and over. The class is limited to 30 guests. \nIf you have any questions\, please email Renée at owner@raisingthebarNW.com. \nFind and follow us on Instagram: Raising the Bar and Hogwash Whiskey Den.
URL:https://raisingthebarnw.com/event/camp-cocktail-3/
LOCATION:Hogwash Whiskey Den\, 304 W. Pacific Ave\, Spokane\, WA\, 99201\, United States
CATEGORIES:Classes,Cocktail Class,Mixology Class
ATTACH;FMTTYPE=image/png:https://raisingthebarnw.com/wp-content/uploads/2023/12/August-Camp-Cocktail-2024-IG-Landscape.png
END:VEVENT
END:VCALENDAR