BEGIN:VCALENDAR
VERSION:2.0
PRODID:-//Raising the Bar - ECPv6.15.17.1//NONSGML v1.0//EN
CALSCALE:GREGORIAN
METHOD:PUBLISH
X-ORIGINAL-URL:https://raisingthebarnw.com
X-WR-CALDESC:Events for Raising the Bar
REFRESH-INTERVAL;VALUE=DURATION:PT1H
X-Robots-Tag:noindex
X-PUBLISHED-TTL:PT1H
BEGIN:VTIMEZONE
TZID:America/Vancouver
BEGIN:DAYLIGHT
TZOFFSETFROM:-0800
TZOFFSETTO:-0700
TZNAME:PDT
DTSTART:20230312T100000
END:DAYLIGHT
BEGIN:STANDARD
TZOFFSETFROM:-0700
TZOFFSETTO:-0800
TZNAME:PST
DTSTART:20231105T090000
END:STANDARD
BEGIN:DAYLIGHT
TZOFFSETFROM:-0800
TZOFFSETTO:-0700
TZNAME:PDT
DTSTART:20240310T100000
END:DAYLIGHT
BEGIN:STANDARD
TZOFFSETFROM:-0700
TZOFFSETTO:-0800
TZNAME:PST
DTSTART:20241103T090000
END:STANDARD
BEGIN:DAYLIGHT
TZOFFSETFROM:-0800
TZOFFSETTO:-0700
TZNAME:PDT
DTSTART:20250309T100000
END:DAYLIGHT
BEGIN:STANDARD
TZOFFSETFROM:-0700
TZOFFSETTO:-0800
TZNAME:PST
DTSTART:20251102T090000
END:STANDARD
END:VTIMEZONE
BEGIN:VEVENT
DTSTART;TZID=America/Vancouver:20240310T150000
DTEND;TZID=America/Vancouver:20240310T170000
DTSTAMP:20260425T034212
CREATED:20231207T185949Z
LAST-MODIFIED:20240221T224550Z
UID:3597-1710082800-1710090000@raisingthebarnw.com
SUMMARY:Irish Whiskey Cocktail Class
DESCRIPTION:What is Irish Whiskey and how is it made? How did this whiskey tradition influence American drinking traditions? These are the questions we’ll explore at the March cocktail class. Learn about the origins of this iconic spirit while mixing and enjoying three cocktails.\n\n\nHogwash Whiskey Den’s master mixologist\, Simon\, guides you through the use of tools and techniques. Raising the Bar’s cocktail historian\, Renée tells the stories behind this classic immigration story. \nClass set-up includes bartending stations with all the necessary tools\, fresh-made and prepped ingredients\, and vintage glassware. Shake\, swirl\, and sip in style as you deepen your knowledge of cocktails and develop your palate. \nTickets are $75 per person. Your ticket includes the following: \n\nThree crafted drinks.\nMixology and history lessons.\nAppetizers.\nA cocktail recipe booklet.\n\nMUST BE 21 and over. The class is limited to 30 guests. \nTICKETS ARE HERE!\nIf you have any questions\, please email Renée at owner@raisingthebarNW.com.
URL:https://raisingthebarnw.com/event/irish-whiskey-cocktail-class/
LOCATION:Hogwash Whiskey Den\, 304 W. Pacific Ave\, Spokane\, WA\, 99201\, United States
CATEGORIES:Classes,Cocktail Class,Mixology Class
ATTACH;FMTTYPE=image/png:https://raisingthebarnw.com/wp-content/uploads/2023/12/Irish-Whiskey-Class-Mar2024-IG-Portrait.png
END:VEVENT
END:VCALENDAR