BEGIN:VCALENDAR
VERSION:2.0
PRODID:-//Raising the Bar - ECPv6.15.17.1//NONSGML v1.0//EN
CALSCALE:GREGORIAN
METHOD:PUBLISH
X-WR-CALNAME:Raising the Bar
X-ORIGINAL-URL:https://raisingthebarnw.com
X-WR-CALDESC:Events for Raising the Bar
REFRESH-INTERVAL;VALUE=DURATION:PT1H
X-Robots-Tag:noindex
X-PUBLISHED-TTL:PT1H
BEGIN:VTIMEZONE
TZID:UTC
BEGIN:STANDARD
TZOFFSETFROM:+0000
TZOFFSETTO:+0000
TZNAME:UTC
DTSTART:20170101T000000
END:STANDARD
END:VTIMEZONE
BEGIN:VEVENT
DTSTART;TZID=UTC:20190601T090000
DTEND;TZID=UTC:20190602T170000
DTSTAMP:20260425T045034
CREATED:20190214T234855Z
LAST-MODIFIED:20190215T110804Z
UID:1085-1559379600-1559494800@raisingthebarnw.com
SUMMARY:The Farm Chicks Vintage & Handmade Fair
DESCRIPTION:
URL:https://raisingthebarnw.com/event/the-farm-chicks-vintage-handmade-fair/
LOCATION:Spokane County Fairgrounds
END:VEVENT
BEGIN:VEVENT
DTSTART;TZID=UTC:20190220T090000
DTEND;TZID=UTC:20190225T200000
DTSTAMP:20260425T045034
CREATED:20190214T233852Z
LAST-MODIFIED:20190214T233852Z
UID:1081-1550653200-1551124800@raisingthebarnw.com
SUMMARY:NW Flower & Garden Show
DESCRIPTION:Find our vintage and badass barware in Seattle at the NW Flower and Garden Show. Find us inside the Vintage Garden Market in the North Hall. Ready for a break from the snow? Step inside the magical transformation at the Washington Convention Center.
URL:https://raisingthebarnw.com/event/nw-flower-garden-show/
LOCATION:washington conventions center\, seattle\, WA\, 705 Pike Street\, Seattle\, WA\, 98101\, United States
END:VEVENT
BEGIN:VEVENT
DTSTART;TZID=UTC:20181109T080000
DTEND;TZID=UTC:20181110T170000
DTSTAMP:20260425T045034
CREATED:20180813T040541Z
LAST-MODIFIED:20180905T154639Z
UID:564-1541750400-1541869200@raisingthebarnw.com
SUMMARY:The Great Junk Hunt
DESCRIPTION:Get ready for holiday and winter imbibing in our little barware boutique on wheels. Find us at The Great Junk Hunt\, the granddaddy of all the vintage/artisan shows in the area. This fun shopping and perusing event takes place at the Washington State Fairgrounds with 50\,000 square feet of incredible vendors — he largest event of its kind in Western Washington. Cheers!
URL:https://raisingthebarnw.com/event/the-great-junk-hunt/
LOCATION:WA\, United States
ATTACH;FMTTYPE=image/jpeg:https://raisingthebarnw.com/wp-content/uploads/2018/05/Raising-the-Bar-48.jpg
END:VEVENT
BEGIN:VEVENT
DTSTART;VALUE=DATE:20180830
DTEND;VALUE=DATE:20180831
DTSTAMP:20260425T045034
CREATED:20180813T041639Z
LAST-MODIFIED:20180813T041804Z
UID:571-1535587200-1535673599@raisingthebarnw.com
SUMMARY:Last Day to SAVE on Cocktail Tour to CUBA!
DESCRIPTION:Today’s the day — the last day to book your trip to CUBA and save $200. Contact us today to reserve your spot. Contact us with questions\, comments\, or your favorite rum drink.  \nYou can book after today but no savings of $200. Final payment due 10/30.
URL:https://raisingthebarnw.com/event/last-day-to-save-on-cocktail-tour-to-cuba/
LOCATION:WA
END:VEVENT
BEGIN:VEVENT
DTSTART;VALUE=DATE:20180820
DTEND;VALUE=DATE:20180821
DTSTAMP:20260425T045034
CREATED:20180813T041311Z
LAST-MODIFIED:20180813T041311Z
UID:569-1534723200-1534809599@raisingthebarnw.com
SUMMARY:TEN Days to Book for CUBA & Save!
DESCRIPTION:The clock is ticking… Book your trip to CUBA by Aug\, 30 and save $200. Contact us today to reserve your spot. Contact us with questions\, comments\, or your favorite rum drink.
URL:https://raisingthebarnw.com/event/ten-days-to-book-for-cuba-save/
LOCATION:WA
END:VEVENT
END:VCALENDAR