BEGIN:VCALENDAR
VERSION:2.0
PRODID:-//Raising the Bar - ECPv6.15.17.1//NONSGML v1.0//EN
CALSCALE:GREGORIAN
METHOD:PUBLISH
X-WR-CALNAME:Raising the Bar
X-ORIGINAL-URL:https://raisingthebarnw.com
X-WR-CALDESC:Events for Raising the Bar
REFRESH-INTERVAL;VALUE=DURATION:PT1H
X-Robots-Tag:noindex
X-PUBLISHED-TTL:PT1H
BEGIN:VTIMEZONE
TZID:America/Vancouver
BEGIN:DAYLIGHT
TZOFFSETFROM:-0800
TZOFFSETTO:-0700
TZNAME:PDT
DTSTART:20220313T100000
END:DAYLIGHT
BEGIN:STANDARD
TZOFFSETFROM:-0700
TZOFFSETTO:-0800
TZNAME:PST
DTSTART:20221106T090000
END:STANDARD
BEGIN:DAYLIGHT
TZOFFSETFROM:-0800
TZOFFSETTO:-0700
TZNAME:PDT
DTSTART:20230312T100000
END:DAYLIGHT
BEGIN:STANDARD
TZOFFSETFROM:-0700
TZOFFSETTO:-0800
TZNAME:PST
DTSTART:20231105T090000
END:STANDARD
BEGIN:DAYLIGHT
TZOFFSETFROM:-0800
TZOFFSETTO:-0700
TZNAME:PDT
DTSTART:20240310T100000
END:DAYLIGHT
BEGIN:STANDARD
TZOFFSETFROM:-0700
TZOFFSETTO:-0800
TZNAME:PST
DTSTART:20241103T090000
END:STANDARD
END:VTIMEZONE
BEGIN:VEVENT
DTSTART;TZID=America/Vancouver:20231216T100000
DTEND;TZID=America/Vancouver:20231216T200000
DTSTAMP:20260425T102734
CREATED:20231201T055916Z
LAST-MODIFIED:20231201T055916Z
UID:3581-1702720800-1702756800@raisingthebarnw.com
SUMMARY:BrrrZaar Winter Market
DESCRIPTION:Find our Badass Bitters DIY Cocktail Bitters kits at BrrrZaar!\n \n\nSPOKANE’S LARGEST\, ALL-LOCAL WINTER ART MARKET!\nWHEN: December 16th\, 2023 • 10am – 8pm \nWHERE: River Park Square \nOne-stop shopping (Terrain Style) in the wintery time of year! BrrrZAAR takes place on all three floorsof River Park Square and features THOUSANDS of swoon-worthy gifts (think jewelry\, leather goods\, clothing\, home goods\, original artwork\, skin care\, candles\, mugs\, tea\, and more!) from 70+ local vendors as well as… CLICK HERE.
URL:https://raisingthebarnw.com/event/brrrzaar-winter-market-2/
LOCATION:Riverpark Square\, 808 W. Main Ave.\, Spokane\, WA\, 99201\, United States
CATEGORIES:Popup Shop,Special Event
ATTACH;FMTTYPE=image/jpeg:https://raisingthebarnw.com/wp-content/uploads/2023/11/BrrrZaar-Dec23.jpg
END:VEVENT
END:VCALENDAR