BEGIN:VCALENDAR
VERSION:2.0
PRODID:-//Raising the Bar - ECPv6.15.17.1//NONSGML v1.0//EN
CALSCALE:GREGORIAN
METHOD:PUBLISH
X-ORIGINAL-URL:https://raisingthebarnw.com
X-WR-CALDESC:Events for Raising the Bar
REFRESH-INTERVAL;VALUE=DURATION:PT1H
X-Robots-Tag:noindex
X-PUBLISHED-TTL:PT1H
BEGIN:VTIMEZONE
TZID:America/Vancouver
BEGIN:DAYLIGHT
TZOFFSETFROM:-0800
TZOFFSETTO:-0700
TZNAME:PDT
DTSTART:20240310T100000
END:DAYLIGHT
BEGIN:STANDARD
TZOFFSETFROM:-0700
TZOFFSETTO:-0800
TZNAME:PST
DTSTART:20241103T090000
END:STANDARD
BEGIN:DAYLIGHT
TZOFFSETFROM:-0800
TZOFFSETTO:-0700
TZNAME:PDT
DTSTART:20250309T100000
END:DAYLIGHT
BEGIN:STANDARD
TZOFFSETFROM:-0700
TZOFFSETTO:-0800
TZNAME:PST
DTSTART:20251102T090000
END:STANDARD
BEGIN:DAYLIGHT
TZOFFSETFROM:-0800
TZOFFSETTO:-0700
TZNAME:PDT
DTSTART:20260308T100000
END:DAYLIGHT
BEGIN:STANDARD
TZOFFSETFROM:-0700
TZOFFSETTO:-0800
TZNAME:PST
DTSTART:20261101T090000
END:STANDARD
BEGIN:DAYLIGHT
TZOFFSETFROM:-0800
TZOFFSETTO:-0700
TZNAME:PDT
DTSTART:20270314T100000
END:DAYLIGHT
BEGIN:STANDARD
TZOFFSETFROM:-0700
TZOFFSETTO:-0800
TZNAME:PST
DTSTART:20271107T090000
END:STANDARD
END:VTIMEZONE
BEGIN:VEVENT
DTSTART;TZID=America/Vancouver:20251214T150000
DTEND;TZID=America/Vancouver:20251214T173000
DTSTAMP:20260425T050810
CREATED:20251117T010544Z
LAST-MODIFIED:20251117T010545Z
UID:3805-1765724400-1765733400@raisingthebarnw.com
SUMMARY:Holiday Cocktail Class 2 with Hogwash Whiskey Den
DESCRIPTION:Celebrate the season with a spirited journey into the world of It’s a Wonderful Life — where American cocktail culture meets the world of George Bailey. Our final immersive cocktail class of the year invites guests to their bartending station and an experience filled with flavor\, knowledge\, and inspiration!  \nThe class opens with our traditional flaming holiday punch\, ignited before your eyes by Erin and Renée (look away\, Simon) — an unforgettable nod to festive gatherings of the past. Guests will sip and savor while learning the history of one of Charles Dickens’ favorites (and Clarence the angel)\, and how communal punches once defined American holiday revelry.\nThen Hogwash Whiskey Den’s master mixologists\, Erin and Simon\, will guide you through the art of making two additional cocktails inspired by the movie. Your mixology lessons will be complete with a primer on essential bartending tools and techniques. Raising the Bar’s resident historian\, Renée\, will tell the stories behind the film\, the eras it portrays\, and the classic drinks you’ll be making and enjoying. \nTickets are $84 per person. Your ticket includes: \n\nThree crafted drinks\nMixology and history lessons\nAppetizers\nA cocktail recipe booklet\n\nClass includes a bartending station for each pair of guests\, fresh-made and prepped ingredients\, and vintage glassware. Shake\, stir\, and sip in style as you deepen your cocktail knowledge and develop your palate. \nPURCHASE TICKETS FOR THE DECEMBER 14 HOLIDAY COCKTAIL CLASS BY CLICKING HERE! \nMUST BE 21 and over. The class is limited to 30 guests. \nNOTE: There will be cinnamon. Please let us know of any allergies so we can arrange an alternative. \nTHIS CLASS IS ALSO OFFERED ON SUNDAY\, DECEMBER 7th\, AT 3 PM. DETAILS AND TICKETS FOR THE DECEMBER 7th CLASS ARE HERE!
URL:https://raisingthebarnw.com/event/holiday-cocktail-class-2-with-hogwash-whiskey-den/
LOCATION:Hogwash Whiskey Den\, 304 W. Pacific Ave\, Spokane\, WA\, 99201\, United States
CATEGORIES:Classes,Cocktail Class,Mixology Class
ATTACH;FMTTYPE=image/jpeg:https://raisingthebarnw.com/wp-content/uploads/2025/11/1214-HOLIDAY-2025-Wonderful-Life-Class2-Landscape.jpg
END:VEVENT
BEGIN:VEVENT
DTSTART;TZID=America/Vancouver:20260215T150000
DTEND;TZID=America/Vancouver:20260215T170000
DTSTAMP:20260425T050810
CREATED:20260118T220750Z
LAST-MODIFIED:20260119T035554Z
UID:3827-1771167600-1771174800@raisingthebarnw.com
SUMMARY:From Russian with Love: Vodka Cocktail Class
DESCRIPTION:Join us for a class on the drinks and history of vodka. Beginning with vodka’s origins intertwined with Russian history\, to its splash into the American cocktail scene. From St. Petersburg to Madison Avenue\, the story of vitamin V—vodka— winds through Cold War intrigue and the birth of modern advertising. Delicious drinks and fascinating history come together for the perfect winter cocktail class.\n\nThis class is part of our It’s Five O’Clock Somewhere series\, a global cocktail journey into the flavors\, traditions\, and stories behind the spirits of American cocktail culture. Each class is guided by Hogwash Whiskey Den mixologists and Raising the Bar’s historian. You’ll learn to craft cocktails and explore the cultural heritage of each featured spirit\, while actively participating in the making of drinks. Find the first three classes in this series here.\nWhether you’re experienced or just starting out\, this class provides hands-on bartending and mixology experiences\, along with insider tips to elevate your home skills. By the end of class\, you’ll master recipes and techniques from around the world and gain an appreciation for the people and traditions behind cocktail culture.\nRaise your glass and join us for a journey of flavor\, history\, and craft. Reserve now to enjoy our immersive experience\, featuring bartending stations for each pair of guests\, fresh-made ingredients\, and vintage glassware. Shake\, stir\, and sip as you deepen your cocktail knowledge and palate.\nTickets are $84 per person (plus Eventbrite fee and tax). Your ticket includes:\n\nThree crafted drinks\nMixology and history lessons\nAppetizers\nA cocktail recipe booklet\n\nPURCHASE TICKETS HERE!\nMUST PURCHASE TICKETS IN ADVANCE\nMust be 21 or older. Class limited to 30 guests.
URL:https://raisingthebarnw.com/event/from-russian-with-love-vodka-cocktail-class/
LOCATION:Hogwash Whiskey Den\, 304 W. Pacific Ave\, Spokane\, WA\, 99201\, United States
CATEGORIES:Classes,Cocktail Class,Mixology Class
ATTACH;FMTTYPE=image/jpeg:https://raisingthebarnw.com/wp-content/uploads/2026/01/IFOS-Hogwash-Russia-Feb26-Square.jpg
END:VEVENT
BEGIN:VEVENT
DTSTART;TZID=America/Vancouver:20260315T150000
DTEND;TZID=America/Vancouver:20260315T170000
DTSTAMP:20260425T050810
CREATED:20260118T233343Z
LAST-MODIFIED:20260118T233343Z
UID:3831-1773586800-1773594000@raisingthebarnw.com
SUMMARY:The Spirit of Ireland: Whiskey
DESCRIPTION:Learn the story of Ireland’s national drink: whiskey. This class explores the origins of whiskey and the story of how immigrants to America brought this ancient tradition\, transforming what Americans drank for over 150 years. Learn about Irish whiskey and its profound influence on American drinking traditions through a series of three drinks.\n\nWhether you’re experienced or just starting out\, this class provides hands-on bartending and mixology experiences\, along with insider tips to elevate your home skills. By the end of class\, you’ll master recipes and techniques from around the world and gain an appreciation for the people and traditions behind cocktail culture.\nThis class is part of our It’s Five O’Clock Somewhere series\, a global cocktail journey into the flavors\, traditions\, and stories behind the spirits of American cocktail culture. Each class is guided by Hogwash Whiskey Den mixologists and Raising the Bar’s historian. You’ll learn to craft cocktails and explore the cultural heritage of each featured spirit\, while actively participating in the making of drinks. Click HERE for more information about the series. \nRaise your glass and join us for a journey of flavor\, history\, and craft. Reserve now to enjoy our immersive experience\, featuring bartending stations for each pair of guests\, fresh-made ingredients\, and vintage glassware. Shake\, stir\, and sip as you deepen your cocktail knowledge and palate.\nTickets are $84 per person (plus Eventbrite fee and tax). Your ticket includes:\n\nThree crafted drinks\nMixology and history lessons\nAppetizers\nA cocktail recipe booklet\n\nPURCHASE TICKETS HERE! \nMUST PURCHASE TICKETS IN ADVANCE\nMust be 21 or older. Class limited to 30 guests.
URL:https://raisingthebarnw.com/event/the-spirit-of-ireland-whiskey/
LOCATION:Hogwash Whiskey Den\, 304 W. Pacific Ave\, Spokane\, WA\, 99201\, United States
CATEGORIES:Classes,Cocktail Class,Mixology Class
ATTACH;FMTTYPE=image/jpeg:https://raisingthebarnw.com/wp-content/uploads/2026/01/IFOS-Hogwash2026-Ireland-Square.jpg
END:VEVENT
BEGIN:VEVENT
DTSTART;TZID=America/Vancouver:20260419T150000
DTEND;TZID=America/Vancouver:20260419T170000
DTSTAMP:20260425T050810
CREATED:20260118T235745Z
LAST-MODIFIED:20260118T235745Z
UID:3838-1776610800-1776618000@raisingthebarnw.com
SUMMARY:Spring in Italy: Amaro
DESCRIPTION:What is this ancient elixir? The evolution of amari (the plural of amaro) spans thousands of years and ties the natural history of the Italian peninsula to the history of the global spice trade. It’s also a key flavor factor in American cocktail culture. Learn about the fascinating history of amari and its equally intense flavor that inspired ninetheenth-century bartenders. What better way to learn about Italy’s contributions to cocktail culture than to make and enjoy three cocktails?\nThis class is part of our It’s Five O’Clock Somewhere series\, a global cocktail journey into the flavors\, traditions\, and stories behind the spirits of American cocktail culture. Each class is guided by Hogwash Whiskey Den mixologists and Raising the Bar’s historian. You’ll learn to craft cocktails and explore the cultural heritage of each featured spirit\, while actively participating in the making of drinks.\nWhether you’re experienced or just starting out\, this class provides hands-on bartending and mixology experiences\, along with insider tips to elevate your home skills. By the end of class\, you’ll master recipes and techniques from around the world and gain an appreciation for the people and traditions behind cocktail culture.\nRaise your glass and join us for a journey of flavor\, history\, and craft. Reserve now to enjoy our immersive experience\, featuring bartending stations for each pair of guests\, fresh-made ingredients\, and vintage glassware. Shake\, stir\, and sip as you deepen your cocktail knowledge and palate.\nTickets are $84 per person (plus Eventbrite fee and tax). Your ticket includes:\n\nThree crafted drinks\nMixology and history lessons\nAppetizers\nA cocktail recipe booklet\n\nPURCHASE TICKETS HERE!\nMUST PURCHASE TICKETS IN ADVANCE\nMust be 21 or older. Class limited to 30 guests.
URL:https://raisingthebarnw.com/event/spring-in-italy-amaro/
LOCATION:Hogwash Whiskey Den\, 304 W. Pacific Ave\, Spokane\, WA\, 99201\, United States
CATEGORIES:Classes,Cocktail Class,Mixology Class
ATTACH;FMTTYPE=image/jpeg:https://raisingthebarnw.com/wp-content/uploads/2026/01/IFOS-Hogwash2026-Italy-Square.jpg
END:VEVENT
BEGIN:VEVENT
DTSTART;TZID=America/Vancouver:20260510T150000
DTEND;TZID=America/Vancouver:20260510T170000
DTSTAMP:20260425T050810
CREATED:20260414T195141Z
LAST-MODIFIED:20260414T195142Z
UID:3849-1778425200-1778432400@raisingthebarnw.com
SUMMARY:The Spirit of Mexico: Tequila
DESCRIPTION:This May\, embark on an exploration of tequila’s Mexican roots and the fascinating tale of how it found its way to America. Learn how Prohibition unexpectedly transformed tequila from a hidden gem into a staple of every modern bar.\nThis class is part of our It’s Five O’Clock Somewhere series\, a global cocktail journey into the flavors\, traditions\, and stories behind the spirits of American cocktail culture.\nExperience tequila’s influence on cocktail culture firsthand as Hogwash Whiskey Den’s master mixologist\, Simon Moorby\, leads you through crafting three signature tequila cocktails. Gain hands-on knowledge of essential mixology techniques and bar tools\, while Raising the Bar’s resident historian\, Renée\, reveals how these drinks helped shape 20th-century drinking trends.\nWhether you’re experienced or just starting out\, this class provides hands-on bartending and mixology experiences\, along with insider tips to elevate your home skills. By the end of class\, you’ll master recipes and techniques from around the world and gain an appreciation for the people and traditions behind cocktail culture.\nRaise your glass and join us for a journey of flavor\, history\, and craft. Reserve now to enjoy our immersive experience\, featuring bartending stations for each pair of guests\, fresh-made ingredients\, and vintage glassware. Shake\, stir\, and sip as you deepen your cocktail knowledge and palate.\nTickets are $84 per person (plus Eventbrite fee and tax). Your ticket includes:\n\nThree crafted drinks\nMixology and history lessons\nAppetizers\nA cocktail recipe booklet\n\nPURCHASE TICKETS HERE!\nMust be 21 or older. MUST PURCHASE TICKETS IN ADVANCE. Purchase your ticket now to secure your place. \nClass limited to 30 guests. \nIf you have questions\, please email Renée at owner@raisingthebarnw.com. \nFind us on Instagram: Raising the Bar \nCheck us out on Facebook: Hogwash Whiskey Den
URL:https://raisingthebarnw.com/event/the-spirit-of-mexico-tequila/
LOCATION:Hogwash Whiskey Den\, 304 W. Pacific Ave\, Spokane\, WA\, 99201\, United States
CATEGORIES:Classes,Cocktail Class,Mixology Class
ATTACH;FMTTYPE=image/jpeg:https://raisingthebarnw.com/wp-content/uploads/2026/04/IFOS-Hogwash-Mexico-May26-IG-Landscape-1.jpg
END:VEVENT
BEGIN:VEVENT
DTSTART;TZID=America/Vancouver:20260614T170000
DTEND;TZID=America/Vancouver:20260614T190000
DTSTAMP:20260425T050810
CREATED:20260414T200217Z
LAST-MODIFIED:20260414T200217Z
UID:3852-1781456400-1781463600@raisingthebarnw.com
SUMMARY:Camp Cocktail June Class: Last Call
DESCRIPTION:This year’s Camp Cocktail theme is American Prohibition. \nJoin us for one or all three classes. \nJune 14 at 5 pm: Last Call — The road to the 18th Amendment and national Prohibition \nJuly 12 at 5 pm: The Dry Years — Life during 13 years of Prohibition. \nAugust 16 at 5 pm: Repeal — The road to the 21st Amendment and the effects of Prohibition. \nBe sure to follow us on Instagram to learn when tickets go live! Raising the Bar
URL:https://raisingthebarnw.com/event/camp-cocktail-june-class-last-call/
LOCATION:Hogwash Whiskey Den\, 304 W. Pacific Ave\, Spokane\, WA\, 99201\, United States
CATEGORIES:Classes,Cocktail Class,Mixology Class
ATTACH;FMTTYPE=image/png:https://raisingthebarnw.com/wp-content/uploads/2023/09/Hogwash-OCT-CLASS-OCT23-Eventbrite-Banner-1.png
END:VEVENT
BEGIN:VEVENT
DTSTART;TZID=America/Vancouver:20260712T170000
DTEND;TZID=America/Vancouver:20260712T190000
DTSTAMP:20260425T050810
CREATED:20260414T200437Z
LAST-MODIFIED:20260414T200437Z
UID:3854-1783875600-1783882800@raisingthebarnw.com
SUMMARY:Camp Cocktail July Class: The Dry Years
DESCRIPTION:This year’s Camp Cocktail theme is American Prohibition. \nJoin us for one or all three classes. \nJune 14 at 5 pm: Last Call — The road to the 18th Amendment and national Prohibition \nJuly 12 at 5 pm: The Dry Years — Life during 13 years of Prohibition. \nAugust 16 at 5 pm: Repeal — The road to the 21st Amendment and the effects of Prohibition. \nBe sure to follow us on Instagram to learn when tickets go live! Raising the Bar
URL:https://raisingthebarnw.com/event/camp-cocktail-july-class-the-dry-years/
LOCATION:Hogwash Whiskey Den\, 304 W. Pacific Ave\, Spokane\, WA\, 99201\, United States
CATEGORIES:Classes,Cocktail Class,Mixology Class
ATTACH;FMTTYPE=image/png:https://raisingthebarnw.com/wp-content/uploads/2023/03/hogwash-class-setup1-feb23.png
END:VEVENT
BEGIN:VEVENT
DTSTART;TZID=America/Vancouver:20260816T170000
DTEND;TZID=America/Vancouver:20260816T190000
DTSTAMP:20260425T050810
CREATED:20260414T200706Z
LAST-MODIFIED:20260414T200706Z
UID:3856-1786899600-1786906800@raisingthebarnw.com
SUMMARY:Camp Cocktail August Class: Repeal
DESCRIPTION:This year’s Camp Cocktail theme is American Prohibition. \nJoin us for one or all three classes. \nJune 14 at 5 pm: Last Call — The road to the 18th Amendment and national Prohibition \nJuly 12 at 5 pm: The Dry Years — Life during 13 years of Prohibition. \nAugust 16 at 5 pm: Repeal — The road to the 21st Amendment and the effects of Prohibition. \nBe sure to follow us on Instagram to learn when tickets go live! Raising the Bar
URL:https://raisingthebarnw.com/event/camp-cocktail-august-class-repeal/
LOCATION:Hogwash Whiskey Den\, 304 W. Pacific Ave\, Spokane\, WA\, 99201\, United States
CATEGORIES:Classes,Cocktail Class,Mixology Class
ATTACH;FMTTYPE=image/jpeg:https://raisingthebarnw.com/wp-content/uploads/2025/04/class_setup_bartend_station_Apr25-scaled.jpg
END:VEVENT
END:VCALENDAR