BEGIN:VCALENDAR
VERSION:2.0
PRODID:-//Raising the Bar - ECPv6.15.17.1//NONSGML v1.0//EN
CALSCALE:GREGORIAN
METHOD:PUBLISH
X-ORIGINAL-URL:https://raisingthebarnw.com
X-WR-CALDESC:Events for Raising the Bar
REFRESH-INTERVAL;VALUE=DURATION:PT1H
X-Robots-Tag:noindex
X-PUBLISHED-TTL:PT1H
BEGIN:VTIMEZONE
TZID:America/Vancouver
BEGIN:DAYLIGHT
TZOFFSETFROM:-0800
TZOFFSETTO:-0700
TZNAME:PDT
DTSTART:20220313T100000
END:DAYLIGHT
BEGIN:STANDARD
TZOFFSETFROM:-0700
TZOFFSETTO:-0800
TZNAME:PST
DTSTART:20221106T090000
END:STANDARD
BEGIN:DAYLIGHT
TZOFFSETFROM:-0800
TZOFFSETTO:-0700
TZNAME:PDT
DTSTART:20230312T100000
END:DAYLIGHT
BEGIN:STANDARD
TZOFFSETFROM:-0700
TZOFFSETTO:-0800
TZNAME:PST
DTSTART:20231105T090000
END:STANDARD
BEGIN:DAYLIGHT
TZOFFSETFROM:-0800
TZOFFSETTO:-0700
TZNAME:PDT
DTSTART:20240310T100000
END:DAYLIGHT
BEGIN:STANDARD
TZOFFSETFROM:-0700
TZOFFSETTO:-0800
TZNAME:PST
DTSTART:20241103T090000
END:STANDARD
END:VTIMEZONE
BEGIN:VEVENT
DTSTART;TZID=America/Vancouver:20231119T150000
DTEND;TZID=America/Vancouver:20231119T173000
DTSTAMP:20260425T084821
CREATED:20231016T175145Z
LAST-MODIFIED:20231016T175145Z
UID:3557-1700406000-1700415000@raisingthebarnw.com
SUMMARY:Doctor Zhivago and the Rise of Vodka in America
DESCRIPTION:In the film Doctor Zhivago\, Viktor Komarovsky stumbles into Zhivago’s cold apartment. Covered in snow and whiskers thickly coated with ice\, he screams\, “I need heat.” Komarovsky reaches for vodka. In 1965\, he wasn’t the only one.  \nThis multi-Oscar-winning film debuted amid the Cold War. A decade that also ushered in the rise of a new liquor for many Americans. Vodka quickly became America’s number-one selling spirit. November’s class is about the rise of vodka in America: the history\, the drinks\, the style! \nHogwash Whiskey Den’s master mixologist\, Simon\, guides you through the use of tools and techniques. Raising the Bar’s cocktail historian\, Renée\, tells the stories and history behind this popular spirit.  \nTickets are $75 per person. Your ticket includes: \n\nThree crafted drinks\nMixology and history lessons\nAppetizers\nA cocktail recipe booklet \n\nClass includes a bartending station for each pair of guests\, fresh-made and prepped ingredients\, and vintage glassware. Shake\, stir\, and sip in style as you deepen your knowledge of cocktails and develop your palate.  \nPURCHASE TICKETS HERE!\nMUST BE 21 and over. The class is limited to 30 guests.  \nIf you have any questions\, please email Renée at owner@raisingthebarNW.com.  \nFind us and follow us on Instagram: Raising the Bar. \nCheck us out on Facebook: Hogwash Whiskey Den.
URL:https://raisingthebarnw.com/event/doctor-zhivago-and-the-rise-of-vodka-in-america/
LOCATION:Hogwash Whiskey Den\, 304 W. Pacific Ave\, Spokane\, WA\, 99201\, United States
CATEGORIES:Classes,Cocktail Class,Mixology Class
ATTACH;FMTTYPE=image/jpeg:https://raisingthebarnw.com/wp-content/uploads/2023/10/Zhivago-The-Vodka-Class-IG.jpg
END:VEVENT
END:VCALENDAR