BEGIN:VCALENDAR
VERSION:2.0
PRODID:-//Raising the Bar - ECPv6.15.17.1//NONSGML v1.0//EN
CALSCALE:GREGORIAN
METHOD:PUBLISH
X-ORIGINAL-URL:https://raisingthebarnw.com
X-WR-CALDESC:Events for Raising the Bar
REFRESH-INTERVAL;VALUE=DURATION:PT1H
X-Robots-Tag:noindex
X-PUBLISHED-TTL:PT1H
BEGIN:VTIMEZONE
TZID:America/Vancouver
BEGIN:DAYLIGHT
TZOFFSETFROM:-0800
TZOFFSETTO:-0700
TZNAME:PDT
DTSTART:20220313T100000
END:DAYLIGHT
BEGIN:STANDARD
TZOFFSETFROM:-0700
TZOFFSETTO:-0800
TZNAME:PST
DTSTART:20221106T090000
END:STANDARD
BEGIN:DAYLIGHT
TZOFFSETFROM:-0800
TZOFFSETTO:-0700
TZNAME:PDT
DTSTART:20230312T100000
END:DAYLIGHT
BEGIN:STANDARD
TZOFFSETFROM:-0700
TZOFFSETTO:-0800
TZNAME:PST
DTSTART:20231105T090000
END:STANDARD
BEGIN:DAYLIGHT
TZOFFSETFROM:-0800
TZOFFSETTO:-0700
TZNAME:PDT
DTSTART:20240310T100000
END:DAYLIGHT
BEGIN:STANDARD
TZOFFSETFROM:-0700
TZOFFSETTO:-0800
TZNAME:PST
DTSTART:20241103T090000
END:STANDARD
END:VTIMEZONE
BEGIN:VEVENT
DTSTART;TZID=America/Vancouver:20231015T150000
DTEND;TZID=America/Vancouver:20231015T173000
DTSTAMP:20260425T084215
CREATED:20230922T190805Z
LAST-MODIFIED:20230922T192259Z
UID:3552-1697382000-1697391000@raisingthebarnw.com
SUMMARY:October Cocktail Class with Hogwash Whiskey Den
DESCRIPTION:Apples are at the core of American drinking traditions beginning in the English colonies. Then\, along came Bourbon. These quintessential American flavors combine in the cocktail glass for the perfect autumn experience. Learn about the origins of these ingredients alongside mixing and enjoying three fall cocktails. \nHogwash Whiskey Den’s master mixologist\, Simon\, guides you through the use of tools and techniques. Raising the Bar’s cocktail historian\, Renée\, tells the stories behind these popular fall flavors.  \nClass set-up includes bartending stations with all the necessary tools\, fresh-made and prepped ingredients\, and vintage glassware. Shake\, swirl\, and sip in style as you deepen your knowledge of cocktails and develop your palate.  \nTickets are $75 per person. Your ticket includes the following: \n\nThree crafted drinks.\nMixology and history lessons.\nAppetizers.\nA cocktail recipe booklet. \n\nMUST BE 21 and over. The class is limited to 30 guests. PURCHASE TICKETS HERE!  \nIf you have any questions\, please email Renée at owner@raisingthebarNW.com.  \nFind us and follow us on Instagram: Raising the Bar. \nCheck us out on Facebook: Hogwash Whiskey Den.
URL:https://raisingthebarnw.com/event/october-cocktail-class-with-hogwash-whiskey-den/
LOCATION:Hogwash Whiskey Den\, 304 W. Pacific Ave\, Spokane\, WA\, 99201\, United States
CATEGORIES:Classes,Cocktail Class,Mixology Class
ATTACH;FMTTYPE=image/png:https://raisingthebarnw.com/wp-content/uploads/2023/09/Hogwash-Essence-of-Fall-Class-Oct23-IG.png
END:VEVENT
END:VCALENDAR